BEGIN:VCALENDAR
VERSION:2.0
PRODID:-//Ventura County Fire Department - ECPv6.15.20//NONSGML v1.0//EN
CALSCALE:GREGORIAN
METHOD:PUBLISH
X-ORIGINAL-URL:https://fire.venturacounty.gov
X-WR-CALDESC:Events for Ventura County Fire Department
REFRESH-INTERVAL;VALUE=DURATION:PT1H
X-Robots-Tag:noindex
X-PUBLISHED-TTL:PT1H
BEGIN:VTIMEZONE
TZID:America/Los_Angeles
BEGIN:DAYLIGHT
TZOFFSETFROM:-0800
TZOFFSETTO:-0700
TZNAME:PDT
DTSTART:20190310T100000
END:DAYLIGHT
BEGIN:STANDARD
TZOFFSETFROM:-0700
TZOFFSETTO:-0800
TZNAME:PST
DTSTART:20191103T090000
END:STANDARD
BEGIN:DAYLIGHT
TZOFFSETFROM:-0800
TZOFFSETTO:-0700
TZNAME:PDT
DTSTART:20200308T100000
END:DAYLIGHT
BEGIN:STANDARD
TZOFFSETFROM:-0700
TZOFFSETTO:-0800
TZNAME:PST
DTSTART:20201101T090000
END:STANDARD
BEGIN:DAYLIGHT
TZOFFSETFROM:-0800
TZOFFSETTO:-0700
TZNAME:PDT
DTSTART:20210314T100000
END:DAYLIGHT
BEGIN:STANDARD
TZOFFSETFROM:-0700
TZOFFSETTO:-0800
TZNAME:PST
DTSTART:20211107T090000
END:STANDARD
END:VTIMEZONE
BEGIN:VEVENT
DTSTART;TZID=America/Los_Angeles:20200717T080000
DTEND;TZID=America/Los_Angeles:20200717T123000
DTSTAMP:20260421T124143
CREATED:20200626T185528Z
LAST-MODIFIED:20200708T185226Z
UID:1126-1594972800-1594989000@fire.venturacounty.gov
SUMMARY:VCFD Blood Drive
DESCRIPTION:Recently\, VCFD and Vitalant held a very successful blood drive collecting 19 pints of lifesaving blood. The public is invited to join VCFD and Vitalant for their second hosted Blood Drive on Friday\, July 17\, 2020\, from 8:00 a.m.-12:30 p.m. The Bloodmobile will be located at 265 Durley Avenue\, on the Camarillo Airport grounds\, to support the vital needs of the county. [Read More]
URL:https://fire.venturacounty.gov/event/vcfd-blood-drive/
LOCATION:CA
CATEGORIES:VCFD Events
ATTACH;FMTTYPE=image/jpeg:https://fire.venturacounty.gov/wp-content/uploads/2020/06/06-26-20_VCFD_Blood_Drive.jpg
ORGANIZER;CN="VCFD Public Information Office":MAILTO:PIOFire@ventura.org
END:VEVENT
END:VCALENDAR